BEGIN:VCALENDAR
VERSION:2.0
PRODID:-//Bissell Brothers - ECPv6.15.12.2//NONSGML v1.0//EN
CALSCALE:GREGORIAN
METHOD:PUBLISH
X-WR-CALNAME:Bissell Brothers
X-ORIGINAL-URL:https://bissellbrothers.com
X-WR-CALDESC:Events for Bissell Brothers
REFRESH-INTERVAL;VALUE=DURATION:PT1H
X-Robots-Tag:noindex
X-PUBLISHED-TTL:PT1H
BEGIN:VTIMEZONE
TZID:America/New_York
BEGIN:DAYLIGHT
TZOFFSETFROM:-0500
TZOFFSETTO:-0400
TZNAME:EDT
DTSTART:20240310T070000
END:DAYLIGHT
BEGIN:STANDARD
TZOFFSETFROM:-0400
TZOFFSETTO:-0500
TZNAME:EST
DTSTART:20241103T060000
END:STANDARD
BEGIN:DAYLIGHT
TZOFFSETFROM:-0500
TZOFFSETTO:-0400
TZNAME:EDT
DTSTART:20250309T070000
END:DAYLIGHT
BEGIN:STANDARD
TZOFFSETFROM:-0400
TZOFFSETTO:-0500
TZNAME:EST
DTSTART:20251102T060000
END:STANDARD
BEGIN:DAYLIGHT
TZOFFSETFROM:-0500
TZOFFSETTO:-0400
TZNAME:EDT
DTSTART:20260308T070000
END:DAYLIGHT
BEGIN:STANDARD
TZOFFSETFROM:-0400
TZOFFSETTO:-0500
TZNAME:EST
DTSTART:20261101T060000
END:STANDARD
END:VTIMEZONE
BEGIN:VEVENT
DTSTART;TZID=America/New_York:20250608T120000
DTEND;TZID=America/New_York:20250608T190000
DTSTAMP:20260420T041701
CREATED:20250422T132052Z
LAST-MODIFIED:20251129T204557Z
UID:10000552-1749384000-1749409200@bissellbrothers.com
SUMMARY:Resurgam Music & Arts Festival
DESCRIPTION:Find us at Maine Academy of Modern Music’s Resurgam Music and Arts Festival 2025\, located on Portland’s beautiful waterfront. We are proud to be sponsors of this inclusive\, community-minded music and arts festival that showcases Portland’s creativity and spotlights some of its most talented performers. Free and open to the public\, there will be live music\, food trucks\, and local vendors… and our special annual beer release that celebrates the occasion\, Summer Rise. Mark your calendar and we’ll see you there! \nLearn more
URL:https://bissellbrothers.com/event-detail/resurgam-music-arts-festival/
LOCATION:Ocean Gateway\, 14 Ocean Gateway Pier\, Portland\, ME\, United States
CATEGORIES:Live Music
ATTACH;FMTTYPE=image/jpeg:https://craftpeak-cooler-images.imgix.net/bissell-brothers/489441993_18495966778002543_2876005451731303930_n.jpg?auto=compress%2Cformat&ixlib=php-3.3.1&s=2b5e82ecc084c810f2dfff369b04de81
END:VEVENT
END:VCALENDAR